BEGIN:VCALENDAR
VERSION:2.0
PRODID:-//Old Saybrook Democrats - ECPv6.15.20//NONSGML v1.0//EN
CALSCALE:GREGORIAN
METHOD:PUBLISH
X-ORIGINAL-URL:https://oldsaybrookdemocrats.com
X-WR-CALDESC:Events for Old Saybrook Democrats
REFRESH-INTERVAL;VALUE=DURATION:PT1H
X-Robots-Tag:noindex
X-PUBLISHED-TTL:PT1H
BEGIN:VTIMEZONE
TZID:America/New_York
BEGIN:DAYLIGHT
TZOFFSETFROM:-0500
TZOFFSETTO:-0400
TZNAME:EDT
DTSTART:20240310T070000
END:DAYLIGHT
BEGIN:STANDARD
TZOFFSETFROM:-0400
TZOFFSETTO:-0500
TZNAME:EST
DTSTART:20241103T060000
END:STANDARD
BEGIN:DAYLIGHT
TZOFFSETFROM:-0500
TZOFFSETTO:-0400
TZNAME:EDT
DTSTART:20250309T070000
END:DAYLIGHT
BEGIN:STANDARD
TZOFFSETFROM:-0400
TZOFFSETTO:-0500
TZNAME:EST
DTSTART:20251102T060000
END:STANDARD
BEGIN:DAYLIGHT
TZOFFSETFROM:-0500
TZOFFSETTO:-0400
TZNAME:EDT
DTSTART:20260308T070000
END:DAYLIGHT
BEGIN:STANDARD
TZOFFSETFROM:-0400
TZOFFSETTO:-0500
TZNAME:EST
DTSTART:20261101T060000
END:STANDARD
BEGIN:DAYLIGHT
TZOFFSETFROM:-0500
TZOFFSETTO:-0400
TZNAME:EDT
DTSTART:20270314T070000
END:DAYLIGHT
BEGIN:STANDARD
TZOFFSETFROM:-0400
TZOFFSETTO:-0500
TZNAME:EST
DTSTART:20271107T060000
END:STANDARD
END:VTIMEZONE
BEGIN:VEVENT
DTSTART;TZID=America/New_York:20250716T010000
DTEND;TZID=America/New_York:20250716T013000
DTSTAMP:20260422T075237
CREATED:20250625T195706Z
LAST-MODIFIED:20250625T195711Z
UID:5850-1752627600-1752629400@oldsaybrookdemocrats.com
SUMMARY:Old Saybrook Website Live
DESCRIPTION:
URL:https://oldsaybrookdemocrats.com/event/old-saybrook-website-live/
END:VEVENT
BEGIN:VEVENT
DTSTART;TZID=America/New_York:20250721T183000
DTEND;TZID=America/New_York:20250721T183000
DTSTAMP:20260422T075237
CREATED:20250624T153124Z
LAST-MODIFIED:20250624T153134Z
UID:5803-1753122600-1753122600@oldsaybrookdemocrats.com
SUMMARY:July Monthly Meeting and Caucus
DESCRIPTION:
URL:https://oldsaybrookdemocrats.com/event/july-monthly-meeting-and-caucus/
END:VEVENT
BEGIN:VEVENT
DTSTART;TZID=America/New_York:20250723T183000
DTEND;TZID=America/New_York:20250723T183000
DTSTAMP:20260422T075237
CREATED:20250423T200737Z
LAST-MODIFIED:20250625T194356Z
UID:5410-1753295400-1753295400@oldsaybrookdemocrats.com
SUMMARY:June Monthly OSDTC Meeting at the Pavilion
DESCRIPTION:
URL:https://oldsaybrookdemocrats.com/event/june-monthly-osdtc-meeting-at-the-pavilion/
END:VEVENT
BEGIN:VEVENT
DTSTART;TZID=America/New_York:20250731T023000
DTEND;TZID=America/New_York:20250731T030000
DTSTAMP:20260422T075237
CREATED:20250625T195115Z
LAST-MODIFIED:20250625T200225Z
UID:5847-1753929000-1753930800@oldsaybrookdemocrats.com
SUMMARY:August OSTDC Monthly Meeting
DESCRIPTION:
URL:https://oldsaybrookdemocrats.com/event/augues-ostdc-monthly-meeting-2/
END:VEVENT
BEGIN:VEVENT
DTSTART;TZID=America/New_York:20250811T063000
DTEND;TZID=America/New_York:20250811T063000
DTSTAMP:20260422T075237
CREATED:20250801T184407Z
LAST-MODIFIED:20250801T185725Z
UID:6123-1754893800-1754893800@oldsaybrookdemocrats.com
SUMMARY:Monthly Meeting At Pavilion
DESCRIPTION:
URL:https://oldsaybrookdemocrats.com/event/family-picnic-at-firemans-field/
END:VEVENT
BEGIN:VEVENT
DTSTART;TZID=America/New_York:20250906T100000
DTEND;TZID=America/New_York:20250906T100000
DTSTAMP:20260422T075237
CREATED:20250901T100927Z
LAST-MODIFIED:20250901T101026Z
UID:6413-1757152800-1757152800@oldsaybrookdemocrats.com
SUMMARY:Kick Off Canvass at Acton Library
DESCRIPTION:
URL:https://oldsaybrookdemocrats.com/event/kick-off-canvass/
END:VEVENT
BEGIN:VEVENT
DTSTART;TZID=America/New_York:20250907T110000
DTEND;TZID=America/New_York:20250907T110000
DTSTAMP:20260422T075237
CREATED:20250801T185135Z
LAST-MODIFIED:20250801T190018Z
UID:6125-1757242800-1757242800@oldsaybrookdemocrats.com
SUMMARY:Family Picnic at Fireman's Field
DESCRIPTION:
URL:https://oldsaybrookdemocrats.com/event/monthly-meeting/
END:VEVENT
BEGIN:VEVENT
DTSTART;TZID=America/New_York:20250908T183000
DTEND;TZID=America/New_York:20250908T183000
DTSTAMP:20260422T075237
CREATED:20250801T190501Z
LAST-MODIFIED:20250801T190507Z
UID:6128-1757356200-1757356200@oldsaybrookdemocrats.com
SUMMARY:Monthly Meeting At Pavilion
DESCRIPTION:
URL:https://oldsaybrookdemocrats.com/event/monthly-meeting-at-pavilion/
END:VEVENT
BEGIN:VEVENT
DTSTART;TZID=America/New_York:20251013T183000
DTEND;TZID=America/New_York:20251013T183000
DTSTAMP:20260422T075237
CREATED:20250801T190724Z
LAST-MODIFIED:20250801T190831Z
UID:6130-1760380200-1760380200@oldsaybrookdemocrats.com
SUMMARY:October Montly Meeting At Pavilion
DESCRIPTION:
URL:https://oldsaybrookdemocrats.com/event/october-montly-meeting-at-pavilion/
END:VEVENT
BEGIN:VEVENT
DTSTART;TZID=America/New_York:20251104T120000
DTEND;TZID=America/New_York:20251104T120000
DTSTAMP:20260422T075237
CREATED:20250801T191034Z
LAST-MODIFIED:20250801T191109Z
UID:6131-1762257600-1762257600@oldsaybrookdemocrats.com
SUMMARY:Election Day
DESCRIPTION:
URL:https://oldsaybrookdemocrats.com/event/election-day-3/
END:VEVENT
BEGIN:VEVENT
DTSTART;TZID=America/New_York:20251111T183000
DTEND;TZID=America/New_York:20251111T183000
DTSTAMP:20260422T075237
CREATED:20250801T191310Z
LAST-MODIFIED:20250801T191314Z
UID:6132-1762885800-1762885800@oldsaybrookdemocrats.com
SUMMARY:Monthly Meeting At Pavilion
DESCRIPTION:
URL:https://oldsaybrookdemocrats.com/event/monthly-meeting-at-pavilion-2/
END:VEVENT
BEGIN:VEVENT
DTSTART;TZID=America/New_York:20260112T183000
DTEND;TZID=America/New_York:20260112T183000
DTSTAMP:20260422T075237
CREATED:20251216T171412Z
LAST-MODIFIED:20251216T171759Z
UID:6531-1768242600-1768242600@oldsaybrookdemocrats.com
SUMMARY:January Democratic Caucus at the Pavilion
DESCRIPTION:
URL:https://oldsaybrookdemocrats.com/event/january-democratic-caucus/
END:VEVENT
BEGIN:VEVENT
DTSTART;TZID=America/New_York:20260112T190000
DTEND;TZID=America/New_York:20260112T190000
DTSTAMP:20260422T075237
CREATED:20251216T171627Z
LAST-MODIFIED:20251216T171827Z
UID:6532-1768244400-1768244400@oldsaybrookdemocrats.com
SUMMARY:January Monthly Meeting at the Pavilion
DESCRIPTION:
URL:https://oldsaybrookdemocrats.com/event/january-monthly-meeting/
END:VEVENT
BEGIN:VEVENT
DTSTART;TZID=America/New_York:20260209T183000
DTEND;TZID=America/New_York:20260209T183000
DTSTAMP:20260422T075237
CREATED:20260126T010424Z
LAST-MODIFIED:20260126T010429Z
UID:6538-1770661800-1770661800@oldsaybrookdemocrats.com
SUMMARY:February Monthly Meeting at the Pavilion
DESCRIPTION:
URL:https://oldsaybrookdemocrats.com/event/february-monthly-meeting-at-the-pavilion/
END:VEVENT
BEGIN:VEVENT
DTSTART;TZID=America/New_York:20260309T183000
DTEND;TZID=America/New_York:20260309T183000
DTSTAMP:20260422T075237
CREATED:20260126T010509Z
LAST-MODIFIED:20260126T010511Z
UID:6539-1773081000-1773081000@oldsaybrookdemocrats.com
SUMMARY:March Monthly Meeting at the Pavilion
DESCRIPTION:
URL:https://oldsaybrookdemocrats.com/event/march-monthly-meeting-at-the-pavilion/
END:VEVENT
BEGIN:VEVENT
DTSTART;TZID=America/New_York:20260511T183000
DTEND;TZID=America/New_York:20260511T183000
DTSTAMP:20260422T075237
CREATED:20260312T124143Z
LAST-MODIFIED:20260312T124145Z
UID:6544-1778524200-1778524200@oldsaybrookdemocrats.com
SUMMARY:May Monthly Meeting at the Pavilion
DESCRIPTION:
URL:https://oldsaybrookdemocrats.com/event/may-monthly-meeting-at-the-pavilion/
END:VEVENT
BEGIN:VEVENT
DTSTART;TZID=America/New_York:20260608T183000
DTEND;TZID=America/New_York:20260608T183000
DTSTAMP:20260422T075237
CREATED:20260312T124248Z
LAST-MODIFIED:20260312T124250Z
UID:6545-1780943400-1780943400@oldsaybrookdemocrats.com
SUMMARY:June Monthly Meeting at the Pavilion
DESCRIPTION:
URL:https://oldsaybrookdemocrats.com/event/june-monthly-meeting-at-the-pavilion/
END:VEVENT
BEGIN:VEVENT
DTSTART;TZID=America/New_York:20260713T183000
DTEND;TZID=America/New_York:20260713T183000
DTSTAMP:20260422T075237
CREATED:20260312T124329Z
LAST-MODIFIED:20260312T124332Z
UID:6546-1783967400-1783967400@oldsaybrookdemocrats.com
SUMMARY:July Monthly Meeting at the Pavilion
DESCRIPTION:
URL:https://oldsaybrookdemocrats.com/event/july-monthly-meeting-at-the-pavilion/
END:VEVENT
END:VCALENDAR